BEGIN:VCALENDAR
VERSION:2.0
PRODID:-//wp-events-plugin.com//7.2.3.1//EN
BEGIN:VEVENT
UID:2@orbit-consultants.com
DTSTART;TZID=Europe/Athens:20240507T181500
DTEND;TZID=Europe/Athens:20240508T203000
DTSTAMP:20240325T220045Z
URL:https://www.orbit-consultants.com/events/%cf%84%ce%b5%cf%83%cf%84-%ce%
 b5%ce%ba%ce%b4%ce%ae%ce%bb%cf%89%cf%83%ce%b7/
SUMMARY:Τεστ Εκδήλωση
DESCRIPTION:Τεστ κείμενο εκδήλωσης για το site
LOCATION:Βελλίδειο Συνεδριακό Κέντρο\, Λεωφ. 
 Στρατού 3\, Θεσσαλονίκη\, 546 36\, Greece
X-APPLE-STRUCTURED-LOCATION;VALUE=URI;X-ADDRESS=Λεωφ. Στρατού 3\
 , Θεσσαλονίκη\, 546 36\, Greece;X-APPLE-RADIUS=100;X-TITLE=Βε
 λλίδειο Συνεδριακό Κέντρο:geo:0,0
END:VEVENT
BEGIN:VTIMEZONE
TZID:Europe/Athens
X-LIC-LOCATION:Europe/Athens
BEGIN:DAYLIGHT
DTSTART:20240331T040000
TZOFFSETFROM:+0200
TZOFFSETTO:+0300
TZNAME:EEST
END:DAYLIGHT
END:VTIMEZONE
END:VCALENDAR